BEGIN:VCALENDAR
VERSION:2.0
PRODID:-//wp-events-plugin.com//7.2.3.1//EN
TZID:Europe/Berlin
X-WR-TIMEZONE:Europe/Berlin
BEGIN:VEVENT
UID:806@kirche-brodswinden.de
DTSTART;TZID=Europe/Berlin:20261123T193000
DTEND;TZID=Europe/Berlin:20261123T210000
DTSTAMP:20260107T125902Z
URL:https://kirche-brodswinden.de/events/probe-chor-unterwegs-2-2026-01-05
 -2026-01-19-2026-02-02-2026-02-16-2026-03-02-2026-03-16-2026-03-30-2026-04
 -13-2026-04-27-2026-05-11-2026-05-25-2026-06-08-2026-06-22-2026-07-06-2026
 -07-2-09-2026-11-23/
SUMMARY:Probe Chor Unterwegs
DESCRIPTION:
ATTACH;FMTTYPE=image/jpeg:https://kirche-brodswinden.de/wp-content/uploads
 /2023/01/unterwegs_72dpi.png
CATEGORIES:Proben
LOCATION:Gemeindehaus Brodswinden\, Brodswinden 17a\, Ansbach\, 91522\, Deu
 tschland
X-APPLE-STRUCTURED-LOCATION;VALUE=URI;X-ADDRESS=Brodswinden 17a\, Ansbach\,
  91522\, Deutschland;X-APPLE-RADIUS=100;X-TITLE=Gemeindehaus Brodswinden:g
 eo:0,0
END:VEVENT
BEGIN:VTIMEZONE
TZID:Europe/Berlin
X-LIC-LOCATION:Europe/Berlin
BEGIN:STANDARD
DTSTART:20261025T020000
TZOFFSETFROM:+0200
TZOFFSETTO:+0100
TZNAME:CET
END:STANDARD
END:VTIMEZONE
END:VCALENDAR