BEGIN:VCALENDAR
VERSION:2.0
PRODID:-//wp-events-plugin.com//7.2.3.1//EN
TZID:Europe/Berlin
X-WR-TIMEZONE:Europe/Berlin
BEGIN:VEVENT
UID:817@kirche-brodswinden.de
DTSTART;TZID=Europe/Berlin:20261118T140000
DTEND;TZID=Europe/Berlin:20261118T153000
DTSTAMP:20260115T095826Z
URL:https://kirche-brodswinden.de/events/seniorenkreis-11-26/
SUMMARY:Seniorenkreis
DESCRIPTION:Buß- und Bettagsgottesdienst\nmit Pfr. Sebastian Schiling
ATTACH;FMTTYPE=image/jpeg:https://kirche-brodswinden.de/wp-content/uploads
 /2026/01/Seniorenkreis_Flyer_2026.png
CATEGORIES:Seniorenkreis
LOCATION:Kirche St. Bartholomäus Brodswinden\, Brodswinden 17\, Ansbach\, 
 91522\, Deutschland
X-APPLE-STRUCTURED-LOCATION;VALUE=URI;X-ADDRESS=Brodswinden 17\, Ansbach\, 
 91522\, Deutschland;X-APPLE-RADIUS=100;X-TITLE=Kirche St. Bartholomäus Br
 odswinden:geo:0,0
END:VEVENT
BEGIN:VTIMEZONE
TZID:Europe/Berlin
X-LIC-LOCATION:Europe/Berlin
BEGIN:STANDARD
DTSTART:20261025T020000
TZOFFSETFROM:+0200
TZOFFSETTO:+0100
TZNAME:CET
END:STANDARD
END:VTIMEZONE
END:VCALENDAR