BEGIN:VCALENDAR
VERSION:2.0
PRODID:-//wp-events-plugin.com//7.2.3.1//EN
TZID:Europe/Berlin
X-WR-TIMEZONE:Europe/Berlin
BEGIN:VEVENT
UID:881@kirche-brodswinden.de
DTSTART;TZID=Europe/Berlin:20260620T000000
DTEND;TZID=Europe/Berlin:20260620T000000
DTSTAMP:20260417T102654Z
URL:https://kirche-brodswinden.de/events/tagesfahrt-freizeitpark-geiselwin
 d/
SUMMARY:Tagesfahrt Freizeitpark Geiselwind
DESCRIPTION:Für Samstag\, den 20.06. haben wir einen Bus gemietet und woll
 en mit vielen Kindern und Jugendlichen in den Freizeitpark nach Geiselwind
  fahren. Nehmt alle eure Freundinnen und Freunde mit und meldet Euch an.\n
 \n
ATTACH;FMTTYPE=image/jpeg:https://kirche-brodswinden.de/wp-content/uploads
 /2026/04/Geiselwind_20-6-26_1.png
CATEGORIES:Kinder- und Jugendarbeit
END:VEVENT
BEGIN:VTIMEZONE
TZID:Europe/Berlin
X-LIC-LOCATION:Europe/Berlin
BEGIN:DAYLIGHT
DTSTART:20260329T030000
TZOFFSETFROM:+0100
TZOFFSETTO:+0200
TZNAME:CEST
END:DAYLIGHT
END:VTIMEZONE
END:VCALENDAR