BEGIN:VCALENDAR
VERSION:2.0
PRODID:-//wp-events-plugin.com//7.2.3.1//EN
TZID:Europe/Berlin
X-WR-TIMEZONE:Europe/Berlin
BEGIN:VEVENT
UID:834@kirche-brodswinden.de
DTSTART;TZID=Europe/Berlin:20260802T104500
DTEND;TZID=Europe/Berlin:20260802T114500
DTSTAMP:20260119T115751Z
URL:https://kirche-brodswinden.de/events/tauf-sonntag-7/
SUMMARY:Tauf-Sonntag
DESCRIPTION:Neu in unserer Gemeinde: Taufsonntage\nEs ist schön\, wie viel
 e Kinder wir in Brodswinden seit unserem Dienstantritt taufen durften und 
 noch taufen dürfen. Wir freuen uns\, dass den Eltern die Taufe ihrer Kind
 er wichtig ist.\nAufgrund der vielen Anfragen gibt es seit Oktober 2024 Ta
 ufsonntage\, d.h. es gibt nur einen Termin pro Monat für eine Taufe auße
 rhalb des normalen Gottesdienstes. An diesem Tag können in einem extra Ta
 ufgottesdienst um 10.45 Uhr bis zu drei Täuflinge getauft werden.\n\nDane
 ben können Sie aber auch weiterhin an fast jedem Gottesdienst am Sonntagm
 orgen um 9.30 Uhr ihr Kind taufen lassen. Dies bietet die Möglichkeit\, m
 it der ganzen Gemeinde dieses schöne Ereignis zu feiern.\n\nWir sind zuve
 rsichtlich\, dass so jede Familie ihren Termin finden und eine tolle Taufe
  feiern kann.
CATEGORIES:Gottesdienst
LOCATION:Kirche St. Bartholomäus Brodswinden\, Brodswinden 17\, Ansbach\, 
 91522\, Deutschland
X-APPLE-STRUCTURED-LOCATION;VALUE=URI;X-ADDRESS=Brodswinden 17\, Ansbach\, 
 91522\, Deutschland;X-APPLE-RADIUS=100;X-TITLE=Kirche St. Bartholomäus Br
 odswinden:geo:0,0
END:VEVENT
BEGIN:VTIMEZONE
TZID:Europe/Berlin
X-LIC-LOCATION:Europe/Berlin
BEGIN:DAYLIGHT
DTSTART:20260329T030000
TZOFFSETFROM:+0100
TZOFFSETTO:+0200
TZNAME:CEST
END:DAYLIGHT
END:VTIMEZONE
END:VCALENDAR