BEGIN:VCALENDAR
VERSION:2.0
PRODID:-//wp-events-plugin.com//7.2.3.1//EN
TZID:Europe/Berlin
X-WR-TIMEZONE:Europe/Berlin
BEGIN:VEVENT
UID:826@kirche-brodswinden.de
DTSTART;TZID=Europe/Berlin:20261208T193000
DTEND;TZID=Europe/Berlin:20261208T210000
DTSTAMP:20260115T102541Z
URL:https://kirche-brodswinden.de/events/themenabend-12-26/
SUMMARY:Themenabend - Weihnachtsfeier
DESCRIPTION:Weihnachtsfeier
ATTACH;FMTTYPE=image/jpeg:https://kirche-brodswinden.de/wp-content/uploads
 /2026/01/Themenabende_Flyer_2026.png
CATEGORIES:Gemeinde,Themenabend
LOCATION:Gemeindehaus Brodswinden (Saal)\, Brodswinden 17a\, Ansbach\, Deut
 schland
X-APPLE-STRUCTURED-LOCATION;VALUE=URI;X-ADDRESS=Brodswinden 17a\, Ansbach\,
  Deutschland;X-APPLE-RADIUS=100;X-TITLE=Gemeindehaus Brodswinden (Saal):ge
 o:0,0
END:VEVENT
BEGIN:VTIMEZONE
TZID:Europe/Berlin
X-LIC-LOCATION:Europe/Berlin
BEGIN:STANDARD
DTSTART:20261025T020000
TZOFFSETFROM:+0200
TZOFFSETTO:+0100
TZNAME:CET
END:STANDARD
END:VTIMEZONE
END:VCALENDAR